BEGIN:VCALENDAR
VERSION:2.0
PRODID:-//SAWS - Watering Rules Review - ECPv6.15.20//NONSGML v1.0//EN
CALSCALE:GREGORIAN
METHOD:PUBLISH
X-ORIGINAL-URL:https://wateringrules.com
X-WR-CALDESC:Events for SAWS - Watering Rules Review
REFRESH-INTERVAL;VALUE=DURATION:PT1H
X-Robots-Tag:noindex
X-PUBLISHED-TTL:PT1H
BEGIN:VTIMEZONE
TZID:America/Chicago
BEGIN:DAYLIGHT
TZOFFSETFROM:-0600
TZOFFSETTO:-0500
TZNAME:CDT
DTSTART:20220313T080000
END:DAYLIGHT
BEGIN:STANDARD
TZOFFSETFROM:-0500
TZOFFSETTO:-0600
TZNAME:CST
DTSTART:20221106T070000
END:STANDARD
BEGIN:DAYLIGHT
TZOFFSETFROM:-0600
TZOFFSETTO:-0500
TZNAME:CDT
DTSTART:20230312T080000
END:DAYLIGHT
BEGIN:STANDARD
TZOFFSETFROM:-0500
TZOFFSETTO:-0600
TZNAME:CST
DTSTART:20231105T070000
END:STANDARD
BEGIN:DAYLIGHT
TZOFFSETFROM:-0600
TZOFFSETTO:-0500
TZNAME:CDT
DTSTART:20240310T080000
END:DAYLIGHT
BEGIN:STANDARD
TZOFFSETFROM:-0500
TZOFFSETTO:-0600
TZNAME:CST
DTSTART:20241103T070000
END:STANDARD
END:VTIMEZONE
BEGIN:VTIMEZONE
TZID:UTC
BEGIN:STANDARD
TZOFFSETFROM:+0000
TZOFFSETTO:+0000
TZNAME:UTC
DTSTART:20220101T000000
END:STANDARD
END:VTIMEZONE
BEGIN:VEVENT
DTSTART;TZID=America/Chicago:20231005T110000
DTEND;TZID=America/Chicago:20231005T120000
DTSTAMP:20260421T102319
CREATED:20230926T024827Z
LAST-MODIFIED:20230926T185346Z
UID:381-1696503600-1696507200@wateringrules.com
SUMMARY:Proposed Changes to Watering Rules
DESCRIPTION:Conserving water is a community responsibility\, and everyone’s efforts make a difference. Join Karen Guz\, Vice President of Conservation\, for a discussion of the proposed changes to our city’s watering rules and share your feedback. \nJoin the webinar.
URL:https://wateringrules.com/event/proposed-changes-to-watering-rules-2/
END:VEVENT
BEGIN:VEVENT
DTSTART;TZID=America/Chicago:20230928T110000
DTEND;TZID=America/Chicago:20230928T120000
DTSTAMP:20260421T102319
CREATED:20230913T192617Z
LAST-MODIFIED:20230926T185420Z
UID:378-1695898800-1695902400@wateringrules.com
SUMMARY:Proposed Changes to Watering Rules
DESCRIPTION:Conserving water is a community responsibility\, and everyone’s efforts make a difference. Join Karen Guz\, Vice President of Conservation\, for a discussion of the proposed changes to our city’s watering rules and share your feedback. \nRegister for webinar.
URL:https://wateringrules.com/event/proposed-changes-to-watering-rules/
END:VEVENT
BEGIN:VEVENT
DTSTART;TZID=UTC:20230905T183000
DTEND;TZID=UTC:20230905T200000
DTSTAMP:20260421T102319
CREATED:20230831T190035Z
LAST-MODIFIED:20230831T190035Z
UID:363-1693938600-1693944000@wateringrules.com
SUMMARY:Council District 2 Budget Town Hall
DESCRIPTION: Fiscal Year 2024 Proposed Budget and Town Hall. San Antonio Water System will be available at a table to answer questions regarding conservation programs and proposed changes to the watering rules (Conservation Ordinance) at this event. 
URL:https://wateringrules.com/event/council-district-2-budget-town-hall/
LOCATION:Copernicus Community Center\, 5003 Lord Rd\, San Antonio\, TX\, 78220\, United States
END:VEVENT
END:VCALENDAR